BEGIN:VCALENDAR
VERSION:2.0
PRODID:-//IIFB - ECPv6.15.20//NONSGML v1.0//EN
CALSCALE:GREGORIAN
METHOD:PUBLISH
X-ORIGINAL-URL:https://iifb-indigenous.org
X-WR-CALDESC:Events for IIFB
REFRESH-INTERVAL;VALUE=DURATION:PT1H
X-Robots-Tag:noindex
X-PUBLISHED-TTL:PT1H
BEGIN:VTIMEZONE
TZID:America/Bogota
BEGIN:STANDARD
TZOFFSETFROM:-0500
TZOFFSETTO:-0500
TZNAME:-05
DTSTART:20230101T000000
END:STANDARD
END:VTIMEZONE
BEGIN:VEVENT
DTSTART;VALUE=DATE:20240930
DTEND;VALUE=DATE:20241004
DTSTAMP:20260420T025257
CREATED:20240926T200722Z
LAST-MODIFIED:20250626T141538Z
UID:34294-1727654400-1727999999@iifb-indigenous.org
SUMMARY:Global capacity-building workshop on operationalizing access and benefit-sharing national frameworks under the Nagoya Protocol
DESCRIPTION:Global capacity-building workshop on operationalizing access and benefit-sharing national frameworks under the Nagoya Protocol\n  \nDATE: From Wednesday 30th September to Thursday 3rd October 2024 \nVENUE: Bonn\, Germany \n  \nMeeting documents. Access here. \n  \nThis workshop aims to help Parties achieve Goal C and Target 13\, as well as to develop systems to monitor their progress. It will bring together ABS experts\, partners and relevant stakeholders from around the world and provide an opportunity to showcase the progress made\, share experiences and foster peer-to-peer cooperation and learning with regard to addressing ABS operationalization challenges and with a particular focus on practical issues related to:\n(a) Developing efficient user-friendly ABS procedures;\n(b) Managing ABS information;\n(c) Monitoring the utilization of genetic resources and compliance; \nThe workshop is being organized by the Secretariat of the Convention on Biological Diversity\, in collaboration with partners\, including the ABS Capacity Development Initiative\, the German Nagoya Protocol HuB and the Union for Ethical Biotrade. The workshop will be hosted by the German Federal Ministry for the Environment\, Nature Conservation\, Nuclear Safety and Consumer Protection\, and will be financially supported by the Government of Japan through its Japan Biodiversity Fund\, the Government of Denmark\, the Government of the Federal Republic of Germany and the ABS Capacity Development Initiative. \n 
URL:https://iifb-indigenous.org/event/workshop-on-abs-national-frameworks/
LOCATION:Bonn\, Germany\, Bonn\, Germany
CATEGORIES:CBD
ATTACH;FMTTYPE=image/jpeg:https://iifb-indigenous.org/wp-content/uploads/2024/09/iifb-at-sbi-4-side-events-1080-x-1080-px2.jpg
ORGANIZER;CN="Convention on Biological Diversity (CBD)":MAILTO:iifbcomms@iifb-indigenous.org
END:VEVENT
END:VCALENDAR