BEGIN:VCALENDAR
VERSION:2.0
PRODID:-//IIFB - ECPv6.15.20//NONSGML v1.0//EN
CALSCALE:GREGORIAN
METHOD:PUBLISH
X-ORIGINAL-URL:https://iifb-indigenous.org
X-WR-CALDESC:Events for IIFB
REFRESH-INTERVAL;VALUE=DURATION:PT1H
X-Robots-Tag:noindex
X-PUBLISHED-TTL:PT1H
BEGIN:VTIMEZONE
TZID:America/Guatemala
BEGIN:STANDARD
TZOFFSETFROM:-0600
TZOFFSETTO:-0600
TZNAME:CST
DTSTART:20230101T000000
END:STANDARD
END:VTIMEZONE
BEGIN:VEVENT
DTSTART;TZID=America/Guatemala:20241022T090000
DTEND;TZID=America/Guatemala:20241030T180000
DTSTAMP:20260420T024525
CREATED:20240920T023750Z
LAST-MODIFIED:20250108T225940Z
UID:34121-1729587600-1730311200@iifb-indigenous.org
SUMMARY:IIFB activities at Place Quebec
DESCRIPTION:IIFB activities at Place Quebec\nThe IIFB facilitated a space for Indigenous Peoples and local communities to meet and showcase their work at Place Québec\, from 22 to 30 October 2024. \nPlace Québec was an interactive space for multi-stakeholder networking located in the heart of the Blue Zone of the UN Biodiversity Conference 2024. It  was accessible to all registered conference participants. \nThe IIFB space at Place Quebec had scheduled up to 6 events every day at the venue. Check here IIFB the Daily schechule at Place Quebec. \n\nPHOTO GALLERY ON IIFB ACTIVITIES AT PLACE QUEBEC\, COP 16\, 22 TO 30 OCTOBER\, CALI\, COLOMBIA.\n\n\n\n\n\n\n\n        \n            \n                                                \n\n                                        \n                        WhatsApp Image 2024-10-23 at 00.07.38(2)WhatsApp Image 2024-10-23 at 00.07.39WhatsApp Image 2024-10-23 at 00.07.39(1)WhatsApp Image 2024-10-23 at 00.07.39(2)WhatsApp Image 2024-10-23 at 00.07.39(3)WhatsApp Image 2024-10-23 at 00.07.39(4)WhatsApp Image 2024-10-23 at 00.07.39(5)WhatsApp Image 2024-10-23 at 00.07.38WhatsApp Image 2024-10-25 at 18.13.33WhatsApp Image 2024-10-25 at 18.13.3420241025_160347(1)20241022_115523(1)20241022_100619(1)20241022_133119(1)20241022_163929(1)20241022_182201(1)20241022_192712(1)20241022_193552(1)                    \n\n                                    \n            \n        \n        \n  \n 
URL:https://iifb-indigenous.org/event/iifb-activities-at-place-quebec-2/
LOCATION:Centro de Eventos Valle del Pacífico\, Calle 15 N. 26 – 120 Autopista Cali Arroyohondo\, Yumbo Valle del Cauca\, Cali\, Colombia
CATEGORIES:CBD,COP,IIFB events at COP-16
ATTACH;FMTTYPE=image/jpeg:https://iifb-indigenous.org/wp-content/uploads/2024/10/iifb-at-sbi-4-side-events-1080-x-1080-px17.jpg
ORGANIZER;CN="International Indigenous Forum on Biodiversity (IIFB)":MAILTO:iifbcomms@iifb-indigenous.org
END:VEVENT
BEGIN:VEVENT
DTSTART;TZID=America/Guatemala:20241026T090000
DTEND;TZID=America/Guatemala:20241027T163000
DTSTAMP:20260420T024525
CREATED:20240916T115543Z
LAST-MODIFIED:20241215T230446Z
UID:34049-1729933200-1730046600@iifb-indigenous.org
SUMMARY:Nature and Culture Summit 2024
DESCRIPTION:Nature and Culture Summit 2024\nDATE: 26 -27 October 2024 \nVENUE: Sierra Nevada room\, Cali\, Colombia. \n  \nThe Nature and Culture Summit 2024 was one of the major parallel events held during the Sixteenth meeting of the Conference of the Parties to the Convention on Biological Diversity (COP 16). \nCelebrating its fifth edition and taking place almost a year after the adoption of the Kunming-Montreal Global Biodiversity Framework (Framework) at COP 15 in December 2022\, the Summit provided a unique opportunity to develop key messages on the intrinsic relationship of biocultural diversity in the context of the implementation of the Framework. \nThrough panel presentations\, discussions\, traditional cultural expressions and a field visit organized and coordinated with the Government of Colombia\, the Nature and Culture Summit addressed culture shapes heritage\, identity\, creativity\, and linguistic diversity and its linkages with biodiversity. \nThe summit highlighted that Indigenous Peoples and local communities are champions of biodiversity protection through their cultural practices. Their extensive knowledge systems\, values\, and worldviews are central to their cultural identity. Their traditional ways of life are closely intertwined with their lands\, flora and fauna\, and their values and practices emerge from these intimate connections. \nDeclaration of the Nature and Culture Summit\nAccess the Declaration of the World Coalition for Peace with Nature: A call for life. \nAgenda\, speakers and concept note\nAccess the full agenda\, speakers’ bios\, concepto note and more here. \nLive streaming of the event\nWatch the recording of the first meeting  of the Nature and Culture Summit here. \nWatch the recording of the second meeting  of the Nature and Culture Summit here. \nPhoto Gallery – Oepning Session\, 26 October\, Sierra Nevada room\n\n\n\n\n\n\n\n        \n            \n                                                \n\n                                        \n                        IMG_4138IMG_4120IMG_4113IMG_4151IMG_4150IMG_4159IMG_4158IMG_4155IMG_4152IMG_4130                    \n\n                                    \n            \n        \n        \n\n\n\nPhoto Gallery – Field Trip\, 27 October\, Cali.\n\n\n\n\n\n\n\n\n\n\n        \n            \n                                                \n\n                                        \n                        ft3(1)ft 4(1)ft5(1)opening cop16(1)field trip(1)                    \n\n                                    \n            \n        \n        \n\n\n\n\n\nMore pictures of the panels are available here: https://www.flickr.com/photos/150988932@N04/albums/72177720321551976
URL:https://iifb-indigenous.org/event/nature-and-culture-summit-2024/
LOCATION:Centro de Eventos Valle del Pacífico\, Calle 15 N. 26 – 120 Autopista Cali Arroyohondo\, Yumbo Valle del Cauca\, Cali\, Colombia
CATEGORIES:CBD,COP
ATTACH;FMTTYPE=image/jpeg:https://iifb-indigenous.org/wp-content/uploads/2024/09/whatsapp-image-2024-10-26-at-101840.jpg
ORGANIZER;CN="Convention on Biological Diversity (CBD)":MAILTO:iifbcomms@iifb-indigenous.org
END:VEVENT
END:VCALENDAR